BEGIN:VCALENDAR
VERSION:2.0
PRODID:-//St. Albert &amp; Sturgeon Primary Care Network - ECPv6.15.20//NONSGML v1.0//EN
CALSCALE:GREGORIAN
METHOD:PUBLISH
X-WR-CALNAME:St. Albert &amp; Sturgeon Primary Care Network
X-ORIGINAL-URL:https://saspcn.com
X-WR-CALDESC:Events for St. Albert &amp; Sturgeon Primary Care Network
REFRESH-INTERVAL;VALUE=DURATION:PT1H
X-Robots-Tag:noindex
X-PUBLISHED-TTL:PT1H
BEGIN:VTIMEZONE
TZID:America/Edmonton
BEGIN:DAYLIGHT
TZOFFSETFROM:-0700
TZOFFSETTO:-0600
TZNAME:MDT
DTSTART:20250309T090000
END:DAYLIGHT
BEGIN:STANDARD
TZOFFSETFROM:-0600
TZOFFSETTO:-0700
TZNAME:MST
DTSTART:20251102T080000
END:STANDARD
BEGIN:DAYLIGHT
TZOFFSETFROM:-0700
TZOFFSETTO:-0600
TZNAME:MDT
DTSTART:20260308T090000
END:DAYLIGHT
BEGIN:STANDARD
TZOFFSETFROM:-0600
TZOFFSETTO:-0700
TZNAME:MST
DTSTART:20261101T080000
END:STANDARD
BEGIN:DAYLIGHT
TZOFFSETFROM:-0700
TZOFFSETTO:-0600
TZNAME:MDT
DTSTART:20270314T090000
END:DAYLIGHT
BEGIN:STANDARD
TZOFFSETFROM:-0600
TZOFFSETTO:-0700
TZNAME:MST
DTSTART:20271107T080000
END:STANDARD
END:VTIMEZONE
BEGIN:VEVENT
DTSTART;TZID=America/Edmonton:20260618T180000
DTEND;TZID=America/Edmonton:20260618T193000
DTSTAMP:20260423T125527
CREATED:20260417T035413Z
LAST-MODIFIED:20260417T035413Z
UID:10000146-1781805600-1781811000@saspcn.com
SUMMARY:Guide to Menopause – June 18 2026
DESCRIPTION:“Embrace the Change” is a free\, in-person program for anyone experiencing or anticipating perimenopause or menopause. Participants will learn about menopause\, its symptoms\, and treatment options including the benefits and risks of hormone therapy. \nWhen: Thursday\, June 18\, 2026\, from 6:00-7:30 p.m. \nWhere: St. Albert & Sturgeon PCN office in the St. Albert Centre (next to SportChek) \nCost: free\n(registration required – click “Going” below and provide attendee information) \nDoctor referral required? no – open to anyone
URL:https://saspcn.com/classes/guide-to-menopause-june-18-2026/
LOCATION:St. Albert & Sturgeon PCN\, St. Albert Centre\, 375 St Albert Trail #196\, St. Albert Centre\, St. Albert\, Alberta\, T8N 3K8\, Canada
CATEGORIES:Women's Health
END:VEVENT
END:VCALENDAR